BEGIN:VCALENDAR
VERSION:2.0
PRODID:-//Alte Apotheke Lindenholzhausen - ECPv6.15.11//NONSGML v1.0//EN
CALSCALE:GREGORIAN
METHOD:PUBLISH
X-ORIGINAL-URL:https://alte-apotheke-lhh.de
X-WR-CALDESC:Veranstaltungen für Alte Apotheke Lindenholzhausen
REFRESH-INTERVAL;VALUE=DURATION:PT1H
X-Robots-Tag:noindex
X-PUBLISHED-TTL:PT1H
BEGIN:VTIMEZONE
TZID:Europe/Berlin
BEGIN:DAYLIGHT
TZOFFSETFROM:+0100
TZOFFSETTO:+0200
TZNAME:CEST
DTSTART:20240331T010000
END:DAYLIGHT
BEGIN:STANDARD
TZOFFSETFROM:+0200
TZOFFSETTO:+0100
TZNAME:CET
DTSTART:20241027T010000
END:STANDARD
BEGIN:DAYLIGHT
TZOFFSETFROM:+0100
TZOFFSETTO:+0200
TZNAME:CEST
DTSTART:20250330T010000
END:DAYLIGHT
BEGIN:STANDARD
TZOFFSETFROM:+0200
TZOFFSETTO:+0100
TZNAME:CET
DTSTART:20251026T010000
END:STANDARD
BEGIN:DAYLIGHT
TZOFFSETFROM:+0100
TZOFFSETTO:+0200
TZNAME:CEST
DTSTART:20260329T010000
END:DAYLIGHT
BEGIN:STANDARD
TZOFFSETFROM:+0200
TZOFFSETTO:+0100
TZNAME:CET
DTSTART:20261025T010000
END:STANDARD
END:VTIMEZONE
BEGIN:VEVENT
DTSTART;TZID=Europe/Berlin:20251219T100000
DTEND;TZID=Europe/Berlin:20251219T130000
DTSTAMP:20260421T102248
CREATED:20250904T212908Z
LAST-MODIFIED:20251101T193647Z
UID:10003970-1766138400-1766149200@alte-apotheke-lhh.de
SUMMARY:Eltern-Kind-Frühstück
DESCRIPTION:Kommt vorbei zum gemeinsamen Frühstück\, zum Kennenlernen und zum Austausch!\nEingeladen sind Mamas und Papas (gerne auch Omas und Opas) mit ihren Babys bzw. Kleinkindern. \nNeue InteressentInnen melden sich bitte vorab bei Pia Rompel unter: \n0176-70615599 \nWir freuen uns auf einen entspannten Morgen mit euch!
URL:https://alte-apotheke-lhh.de/veranstaltung/2308/2025-12-19/
ATTACH;FMTTYPE=image/jpeg:https://alte-apotheke-lhh.de/wp-content/uploads/fruehstueck_kind-breit.jpg
END:VEVENT
BEGIN:VEVENT
DTSTART;TZID=Europe/Berlin:20251219T193000
DTEND;TZID=Europe/Berlin:20251219T220000
DTSTAMP:20260421T102248
CREATED:20250117T083911Z
LAST-MODIFIED:20251028T223810Z
UID:10003943-1766172600-1766181600@alte-apotheke-lhh.de
SUMMARY:Kreativtreff
DESCRIPTION:Bring dein Bastelprojekt mit und lass dich inspirieren!\nWir laden dich herzlich zu unserem offenen Kreativtreff ein – ein Ort\, an dem deine Fantasie fliegen kann.\nTauche ein in eine Welt voller Ideen: Zeige\, woran du gerade arbeitest\, lass dich von anderen begeistern und entdecke neue Materialien und Techniken. Gemeinsam probieren wir Neues aus\, tauschen uns aus und haben jede Menge Spaß. \nWir erheben für dieses Angebot keine Gebühren. Die Alte Apotheke freut sich aber natürlich über jede Spende. \nOffene Fragen werden beantwortet unter     brinkmann.sophie@gmail.com \n  \n 
URL:https://alte-apotheke-lhh.de/veranstaltung/kreativtreff/2025-12-19/
CATEGORIES:Erwachsene,Offen für alle
ATTACH;FMTTYPE=image/jpeg:https://alte-apotheke-lhh.de/wp-content/uploads/kreativtreff-lhh.jpg
END:VEVENT
END:VCALENDAR